BEGIN:VCALENDAR
VERSION:2.0
PRODID:-//Oregon Horse Council - ECPv6.15.20//NONSGML v1.0//EN
CALSCALE:GREGORIAN
METHOD:PUBLISH
X-ORIGINAL-URL:https://www.oregonhorsecouncil.com
X-WR-CALDESC:Events for Oregon Horse Council
REFRESH-INTERVAL;VALUE=DURATION:PT1H
X-Robots-Tag:noindex
X-PUBLISHED-TTL:PT1H
BEGIN:VTIMEZONE
TZID:America/Vancouver
BEGIN:DAYLIGHT
TZOFFSETFROM:-0800
TZOFFSETTO:-0700
TZNAME:PDT
DTSTART:20250309T100000
END:DAYLIGHT
BEGIN:STANDARD
TZOFFSETFROM:-0700
TZOFFSETTO:-0800
TZNAME:PST
DTSTART:20251102T090000
END:STANDARD
BEGIN:DAYLIGHT
TZOFFSETFROM:-0800
TZOFFSETTO:-0700
TZNAME:PDT
DTSTART:20260308T100000
END:DAYLIGHT
BEGIN:STANDARD
TZOFFSETFROM:-0700
TZOFFSETTO:-0800
TZNAME:PST
DTSTART:20261101T090000
END:STANDARD
BEGIN:DAYLIGHT
TZOFFSETFROM:-0800
TZOFFSETTO:-0700
TZNAME:PDT
DTSTART:20270314T100000
END:DAYLIGHT
BEGIN:STANDARD
TZOFFSETFROM:-0700
TZOFFSETTO:-0800
TZNAME:PST
DTSTART:20271107T090000
END:STANDARD
END:VTIMEZONE
BEGIN:VEVENT
DTSTART;VALUE=DATE:20260701
DTEND;VALUE=DATE:20260702
DTSTAMP:20260420T115920
CREATED:20260315T190501Z
LAST-MODIFIED:20260315T190501Z
UID:10001614-1782864000-1782950399@www.oregonhorsecouncil.com
SUMMARY:Nancy Barnes 80th Birthday Celebration
DESCRIPTION:Nancy will be celebrating 80 amazing years this July  Every time I meet someone who knows Nancy I hear amazing stories. I would love for her to hear them too. Please join us July 1\, 2026 to celebrate and share how Nancy has impacted your life. If you can not join us. Or even if you can. Please write it here and post pictures of how Nancy has impacted your life!!  \nhttps://www.facebook.com/events/2374489546400571
URL:https://www.oregonhorsecouncil.com/calendar/nancy-barnes-80th-birthday-celebration/
CATEGORIES:Special Event/Celebration
END:VEVENT
END:VCALENDAR